View In:
ArcGIS JavaScript
ArcGIS Online Map Viewer
ArcGIS Earth
ArcMap
ArcGIS Explorer
View Footprint In:
ArcGIS Online Map Viewer
Service Description: The U.S. Geological Survey's Upper Midwest Environmental Sciences Center (UMESC) in conjunction with the Upper Mississippi River Restoration Program's Long Term Resource Monitoring (LTRM) element has created high-resolution land cover/use data sets for the Upper Mississippi River System (UMRS) from 1:15,000-scale color infrared aerial photos collected in 1989.
Full metadata available at:
http://umesc.usgs.gov/data_library/umesc_metadata/land_cover/umesc_1989_lcu_v2.html
Map Name: UMRR LTRM 1989 LCU (15-class)
Legend
All Layers and Tables
Layers:
Description:
Copyright Text: Upper Midwest Environmental Sciences Center; U.S. Geological Survey, Upper Mississippi River Resoration Program Long Term Resource Monitoring Element
Spatial Reference:
102100
(3857)
Single Fused Map Cache: true
Tile Info:
- Height: 256
- Width: 256
- DPI: 96
-
Levels of Detail: 20
-
Level ID: 1
[ Start Tile, End Tile ]
- Resolution: 78271.5169639999
- Scale: 2.95828763795777E8
-
Level ID: 2
[ Start Tile, End Tile ]
- Resolution: 39135.7584820001
- Scale: 1.47914381897889E8
-
Level ID: 3
[ Start Tile, End Tile ]
- Resolution: 19567.8792409999
- Scale: 7.3957190948944E7
-
Level ID: 4
[ Start Tile, End Tile ]
- Resolution: 9783.93962049996
- Scale: 3.6978595474472E7
-
Level ID: 5
[ Start Tile, End Tile ]
- Resolution: 4891.96981024998
- Scale: 1.8489297737236E7
- Format: PNG
- Compression Quality: 0.0
- Origin:
X: -2.0037508342787E7
Y: 2.0037508342787E7
- Spatial Reference:
102100
(3857)
Initial Extent:
XMin: -1.0902186700287037E7
YMin: 4282729.656619793
XMax: -9117894.874046108
YMax: 5760502.076101303
Spatial Reference:
102100
(3857)
Full Extent:
XMin: -1.0828146404265387E7
YMin: 4336060.193961743
XMax: -9277306.522896882
YMax: 5695123.363980649
Spatial Reference:
102100
(3857)
Units: esriMeters
Supported Image Format Types: PNG32,PNG24,PNG,JPG,DIB,TIFF,EMF,PS,PDF,GIF,SVG,SVGZ,BMP
Document Info:
Title:
Author:
Comments: UMR Land Cover Viewer
Subject: UMR Land Cover Viewer
Category:
Keywords: 1989 Land Cover Mississippi River
AntialiasingMode: None
TextAntialiasingMode: Force
Supports Dynamic Layers: false
MaxRecordCount: 1000
MaxImageHeight: 4096
MaxImageWidth: 4096
Supported Query Formats: JSON, AMF, geoJSON
Min Scale: 1.8489297737236E7
Max Scale: 4513.988705
Supports Datum Transformation: true
Child Resources:
Info
Supported Operations:
Export Map
Identify
QueryDomains
Find
Return Updates
Generate KML